BEGIN:VCALENDAR
VERSION:2.0
PRODID:-//ActNowGA.com - ECPv6.15.18//NONSGML v1.0//EN
CALSCALE:GREGORIAN
METHOD:PUBLISH
X-WR-CALNAME:ActNowGA.com
X-ORIGINAL-URL:https://www.actnowga.com
X-WR-CALDESC:Events for ActNowGA.com
REFRESH-INTERVAL;VALUE=DURATION:PT1H
X-Robots-Tag:noindex
X-PUBLISHED-TTL:PT1H
BEGIN:VTIMEZONE
TZID:America/New_York
BEGIN:DAYLIGHT
TZOFFSETFROM:-0500
TZOFFSETTO:-0400
TZNAME:EDT
DTSTART:20250309T070000
END:DAYLIGHT
BEGIN:STANDARD
TZOFFSETFROM:-0400
TZOFFSETTO:-0500
TZNAME:EST
DTSTART:20251102T060000
END:STANDARD
BEGIN:DAYLIGHT
TZOFFSETFROM:-0500
TZOFFSETTO:-0400
TZNAME:EDT
DTSTART:20260308T070000
END:DAYLIGHT
BEGIN:STANDARD
TZOFFSETFROM:-0400
TZOFFSETTO:-0500
TZNAME:EST
DTSTART:20261101T060000
END:STANDARD
BEGIN:DAYLIGHT
TZOFFSETFROM:-0500
TZOFFSETTO:-0400
TZNAME:EDT
DTSTART:20270314T070000
END:DAYLIGHT
BEGIN:STANDARD
TZOFFSETFROM:-0400
TZOFFSETTO:-0500
TZNAME:EST
DTSTART:20271107T060000
END:STANDARD
END:VTIMEZONE
BEGIN:VEVENT
DTSTART;TZID=America/New_York:20260505T173000
DTEND;TZID=America/New_York:20260505T183000
DTSTAMP:20260420T093942
CREATED:20260214T220223Z
LAST-MODIFIED:20260214T220223Z
UID:10000796-1778002200-1778005800@www.actnowga.com
SUMMARY:Whitfield County Democratic Party Monthly Meeting
DESCRIPTION:Join us in person for our Monthly meetings on the first Tuesday\, each month\, 6:30 pm at the Mack Gaston Community Center in Dalton.  Date and venue may change for holidays and elections.  Zoom link available if you cannot attend in person.
URL:https://www.actnowga.com/event/whitfield-county-democratic-party-monthly-meeting-7/
LOCATION:Mack Gaston Community Center\, 218 N Fredrick St\,\, Dalton\, 30721
GEO:34.7736923;-84.9569748
X-APPLE-STRUCTURED-LOCATION;VALUE=URI;X-ADDRESS=Mack Gaston Community Center 218 N Fredrick St Dalton 30721;X-APPLE-RADIUS=500;X-TITLE=218 N Fredrick St\,:geo:-84.9569748,34.7736923
END:VEVENT
BEGIN:VEVENT
DTSTART;TZID=America/New_York:20260506T160000
DTEND;TZID=America/New_York:20260506T180000
DTSTAMP:20260420T093942
CREATED:20260214T222052Z
LAST-MODIFIED:20260214T222052Z
UID:10001136-1778083200-1778090400@www.actnowga.com
SUMMARY:Druid Hills Dems Community HAPPY HOUR
DESCRIPTION:Are you concerned about what’s going on? Do you want to do something? Here’s where the Druid Hills Community can meet up in a safe place to talk about what we can do to change things\, strengthen our community and work on building our ground game for winning the 2026 mid-term elections\, street by street. We need like-minded folks to help make it happen. Come enjoy a relaxed environment with a range of brews and beverages and learn what you can do to keep Georgia blue. \nCome join us on Wednesday\, Feb. 4 at Wild Heaven Beer – Toco Hills! 5-7 pm. Wild Heaven Brewery also has great food from Fox Bros Bar-B-Q
URL:https://www.actnowga.com/event/druid-hills-dems-community-happy-hour-3/
END:VEVENT
BEGIN:VEVENT
DTSTART;TZID=America/New_York:20260507T180000
DTEND;TZID=America/New_York:20260507T193000
DTSTAMP:20260420T093942
CREATED:20260214T220106Z
LAST-MODIFIED:20260214T220106Z
UID:10000772-1778176800-1778182200@www.actnowga.com
SUMMARY:DeKalb Dems Monthly Business Meeting
DESCRIPTION:Join us for the DeKalb Dems monthly meeting.   \nTo learn more about the DeKalb Dems\, check out our website at: https://dekalbdems.com/ \nTo join DeKalb Dems: https://dekalbdems.com/membership/
URL:https://www.actnowga.com/event/dekalb-dems-monthly-business-meeting-6/
END:VEVENT
END:VCALENDAR