BEGIN:VCALENDAR
VERSION:2.0
PRODID:-//ActNowGA.com - ECPv6.15.18//NONSGML v1.0//EN
CALSCALE:GREGORIAN
METHOD:PUBLISH
X-WR-CALNAME:ActNowGA.com
X-ORIGINAL-URL:https://www.actnowga.com
X-WR-CALDESC:Events for ActNowGA.com
REFRESH-INTERVAL;VALUE=DURATION:PT1H
X-Robots-Tag:noindex
X-PUBLISHED-TTL:PT1H
BEGIN:VTIMEZONE
TZID:America/New_York
BEGIN:DAYLIGHT
TZOFFSETFROM:-0500
TZOFFSETTO:-0400
TZNAME:EDT
DTSTART:20250309T070000
END:DAYLIGHT
BEGIN:STANDARD
TZOFFSETFROM:-0400
TZOFFSETTO:-0500
TZNAME:EST
DTSTART:20251102T060000
END:STANDARD
BEGIN:DAYLIGHT
TZOFFSETFROM:-0500
TZOFFSETTO:-0400
TZNAME:EDT
DTSTART:20260308T070000
END:DAYLIGHT
BEGIN:STANDARD
TZOFFSETFROM:-0400
TZOFFSETTO:-0500
TZNAME:EST
DTSTART:20261101T060000
END:STANDARD
BEGIN:DAYLIGHT
TZOFFSETFROM:-0500
TZOFFSETTO:-0400
TZNAME:EDT
DTSTART:20270314T070000
END:DAYLIGHT
BEGIN:STANDARD
TZOFFSETFROM:-0400
TZOFFSETTO:-0500
TZNAME:EST
DTSTART:20271107T060000
END:STANDARD
END:VTIMEZONE
BEGIN:VEVENT
DTSTART;TZID=America/New_York:20260418T103000
DTEND;TZID=America/New_York:20260418T120000
DTSTAMP:20260419T160139
CREATED:20260214T220709Z
LAST-MODIFIED:20260214T220709Z
UID:10000888-1776508200-1776513600@www.actnowga.com
SUMMARY:South Fulton Democrats | Monthly Meeting
DESCRIPTION:Join the South Fulton Democrats every 3rd Saturday of the month to hear from elected officials\, party leaders\, and community members. Get involved and stay organized! \nJoin us Saturday\, February 21\, from 10:30 AM–12:00 PM at Piccadilly Cafeteria for a welcoming\, daytime trivia event celebrating Black history and community. Free to attend\, with raffle prizes!
URL:https://www.actnowga.com/event/south-fulton-democrats-monthly-meeting-3/
LOCATION:Piccadilly Cafeteria\, 2449 Godby Rd\,\, College Park\, 30349.0
GEO:33.617034;-84.469802
X-APPLE-STRUCTURED-LOCATION;VALUE=URI;X-ADDRESS=Piccadilly Cafeteria 2449 Godby Rd College Park 30349.0;X-APPLE-RADIUS=500;X-TITLE=2449 Godby Rd\,:geo:-84.469802,33.617034
END:VEVENT
BEGIN:VEVENT
DTSTART;TZID=America/New_York:20260418T120000
DTEND;TZID=America/New_York:20260418T130000
DTSTAMP:20260419T160139
CREATED:20260214T220307Z
LAST-MODIFIED:20260214T220307Z
UID:10000807-1776513600-1776517200@www.actnowga.com
SUMMARY:Houston County Democrats Monthly Business Meeting
DESCRIPTION:## We would love to see you!  \n### Houston County Democrats will be hosting our monthly business meeting\, join us to make yourself heard and get more involved!
URL:https://www.actnowga.com/event/houston-county-democrats-monthly-business-meeting-4/
LOCATION:Succeed Cowork\, 1302 Watson Blvd\,\, Warner Robins\, 31093.0
GEO:32.618519;-83.6218001
X-APPLE-STRUCTURED-LOCATION;VALUE=URI;X-ADDRESS=Succeed Cowork 1302 Watson Blvd Warner Robins 31093.0;X-APPLE-RADIUS=500;X-TITLE=1302 Watson Blvd\,:geo:-83.6218001,32.618519
END:VEVENT
END:VCALENDAR