BEGIN:VCALENDAR
VERSION:2.0
PRODID:-//ActNowGA.com - ECPv6.15.18//NONSGML v1.0//EN
CALSCALE:GREGORIAN
METHOD:PUBLISH
X-WR-CALNAME:ActNowGA.com
X-ORIGINAL-URL:https://www.actnowga.com
X-WR-CALDESC:Events for ActNowGA.com
REFRESH-INTERVAL;VALUE=DURATION:PT1H
X-Robots-Tag:noindex
X-PUBLISHED-TTL:PT1H
BEGIN:VTIMEZONE
TZID:America/New_York
BEGIN:DAYLIGHT
TZOFFSETFROM:-0500
TZOFFSETTO:-0400
TZNAME:EDT
DTSTART:20250309T070000
END:DAYLIGHT
BEGIN:STANDARD
TZOFFSETFROM:-0400
TZOFFSETTO:-0500
TZNAME:EST
DTSTART:20251102T060000
END:STANDARD
BEGIN:DAYLIGHT
TZOFFSETFROM:-0500
TZOFFSETTO:-0400
TZNAME:EDT
DTSTART:20260308T070000
END:DAYLIGHT
BEGIN:STANDARD
TZOFFSETFROM:-0400
TZOFFSETTO:-0500
TZNAME:EST
DTSTART:20261101T060000
END:STANDARD
BEGIN:DAYLIGHT
TZOFFSETFROM:-0500
TZOFFSETTO:-0400
TZNAME:EDT
DTSTART:20270314T070000
END:DAYLIGHT
BEGIN:STANDARD
TZOFFSETFROM:-0400
TZOFFSETTO:-0500
TZNAME:EST
DTSTART:20271107T060000
END:STANDARD
END:VTIMEZONE
BEGIN:VEVENT
DTSTART;TZID=America/New_York:20260413T170000
DTEND;TZID=America/New_York:20260413T190000
DTSTAMP:20260420T015555
CREATED:20260214T221114Z
LAST-MODIFIED:20260214T221114Z
UID:10000974-1776099600-1776106800@www.actnowga.com
SUMMARY:GCYD Monthly Meeting
DESCRIPTION:Join us the Second Monday of every month for legislative updates from our Elected Officials\, organizational updates and events\, becoming mobilized and organized. Bring your family and friends!
URL:https://www.actnowga.com/event/gcyd-monthly-meeting-3/
LOCATION:Gwinnett County Public Library – Lawrenceville Hooper-Renwick Branch\, 56 Neal Blvd\,\, Lawrenceville\, 30046.0
GEO:33.9508823;-83.984636
X-APPLE-STRUCTURED-LOCATION;VALUE=URI;X-ADDRESS=Gwinnett County Public Library – Lawrenceville Hooper-Renwick Branch 56 Neal Blvd Lawrenceville 30046.0;X-APPLE-RADIUS=500;X-TITLE=56 Neal Blvd\,:geo:-83.984636,33.9508823
END:VEVENT
BEGIN:VEVENT
DTSTART;TZID=America/New_York:20260413T173000
DTEND;TZID=America/New_York:20260413T183000
DTSTAMP:20260420T015555
CREATED:20260214T220407Z
LAST-MODIFIED:20260214T220407Z
UID:10000827-1776101400-1776105000@www.actnowga.com
SUMMARY:DeKalb Dems African American Caucus Politics and Pizza
DESCRIPTION:Join the DeKalb Chapter of the African American Caucus for Politics and Pizza to discuss issues facing our community and what action you can take to advocate for our rights and educate voters. These will be in-person monthly events on the second Monday of each month. Location: Fellini’s Pizza\, 333 Commerce Dr\, Decatur\, GA 30030.
URL:https://www.actnowga.com/event/dekalb-dems-african-american-caucus-politics-and-pizza-4/
LOCATION:Fellini’s Pizza\, 333 Commerce Drive\,\, Decatur\, 30030.0
GEO:33.7739552;-84.2913432
X-APPLE-STRUCTURED-LOCATION;VALUE=URI;X-ADDRESS=Fellini’s Pizza 333 Commerce Drive Decatur 30030.0;X-APPLE-RADIUS=500;X-TITLE=333 Commerce Drive\,:geo:-84.2913432,33.7739552
END:VEVENT
BEGIN:VEVENT
DTSTART;TZID=America/New_York:20260414T153000
DTEND;TZID=America/New_York:20260414T173000
DTSTAMP:20260420T015555
CREATED:20260214T220422Z
LAST-MODIFIED:20260214T220422Z
UID:10000833-1776180600-1776187800@www.actnowga.com
SUMMARY:Clayton County Board of Elections Meetings
DESCRIPTION:Clayton County Democrats\, we need folks to show up to the Board of Elections meetings! They are the second Tuesday of the month at 4:30 pm. \nKey decisions about election process are decided at these meetings across the state\, and far too often Republicans show up and show up loud even when their goal seems to be to spread misinformation and undermine the integrity of our democracy. \nEven if you don’t have something you plan to say during the public comment period\, be there to support access to the ballot!
URL:https://www.actnowga.com/event/clayton-county-board-of-elections-meetings-4/
LOCATION:Board of Elections and Registration\, 7946 N McDonough St\,\, Jonesboro\, 30236.0
GEO:33.5378326;-84.3480603
X-APPLE-STRUCTURED-LOCATION;VALUE=URI;X-ADDRESS=Board of Elections and Registration 7946 N McDonough St Jonesboro 30236.0;X-APPLE-RADIUS=500;X-TITLE=7946 N McDonough St\,:geo:-84.3480603,33.5378326
END:VEVENT
BEGIN:VEVENT
DTSTART;TZID=America/New_York:20260414T180000
DTEND;TZID=America/New_York:20260414T190000
DTSTAMP:20260420T015555
CREATED:20251228T031617Z
LAST-MODIFIED:20260214T221035Z
UID:10000748-1776189600-1776193200@www.actnowga.com
SUMMARY:Cherokee Democrats GA | Huddle with the Chair
DESCRIPTION:The monthly “Huddle” is geared for people looking to get involved with the county party but maybe have some questions. It’s a chance to connect directly with the County Chair to pose questions and learn what the county party is working on\, how to best engage\, and how to navigate the political landscape. \n**Please RSVP** \n## Zoom information will be emailed the Monday before the meeting to those who register. \nFor more Cherokee County Democrat events please visit our website www.CherokeeDemocrats.com/events/
URL:https://www.actnowga.com/event/cherokee-democrats-ga-huddle-with-the-chair-4/
LOCATION:Woodstock\, \,\, Woodstock\, 30188
GEO:34.1280759;-84.448772
X-APPLE-STRUCTURED-LOCATION;VALUE=URI;X-ADDRESS=Woodstock  Woodstock 30188;X-APPLE-RADIUS=500;X-TITLE=\,:geo:-84.448772,34.1280759
END:VEVENT
BEGIN:VEVENT
DTSTART;TZID=America/New_York:20260415T170000
DTEND;TZID=America/New_York:20260415T190000
DTSTAMP:20260420T015555
CREATED:20260214T221343Z
LAST-MODIFIED:20260214T221343Z
UID:10001083-1776272400-1776279600@www.actnowga.com
SUMMARY:Gwinnett County Board of Registrations and Elections Meeting
DESCRIPTION:Monthly meeting of the Gwinnett County Board of Registrations & Elections.
URL:https://www.actnowga.com/event/gwinnett-county-board-of-registrations-and-elections-meeting-3/
LOCATION:Gwinnett Justice & Administration Center\, 75 Langley Dr\,\, Lawrenceville\, 30046.0
GEO:33.9520561;-83.9931291
X-APPLE-STRUCTURED-LOCATION;VALUE=URI;X-ADDRESS=Gwinnett Justice & Administration Center 75 Langley Dr Lawrenceville 30046.0;X-APPLE-RADIUS=500;X-TITLE=75 Langley Dr\,:geo:-83.9931291,33.9520561
END:VEVENT
END:VCALENDAR