BEGIN:VCALENDAR
VERSION:2.0
PRODID:-//ActNowGA.com - ECPv6.15.18//NONSGML v1.0//EN
CALSCALE:GREGORIAN
METHOD:PUBLISH
X-WR-CALNAME:ActNowGA.com
X-ORIGINAL-URL:https://www.actnowga.com
X-WR-CALDESC:Events for ActNowGA.com
REFRESH-INTERVAL;VALUE=DURATION:PT1H
X-Robots-Tag:noindex
X-PUBLISHED-TTL:PT1H
BEGIN:VTIMEZONE
TZID:America/New_York
BEGIN:DAYLIGHT
TZOFFSETFROM:-0500
TZOFFSETTO:-0400
TZNAME:EDT
DTSTART:20250309T070000
END:DAYLIGHT
BEGIN:STANDARD
TZOFFSETFROM:-0400
TZOFFSETTO:-0500
TZNAME:EST
DTSTART:20251102T060000
END:STANDARD
BEGIN:DAYLIGHT
TZOFFSETFROM:-0500
TZOFFSETTO:-0400
TZNAME:EDT
DTSTART:20260308T070000
END:DAYLIGHT
BEGIN:STANDARD
TZOFFSETFROM:-0400
TZOFFSETTO:-0500
TZNAME:EST
DTSTART:20261101T060000
END:STANDARD
BEGIN:DAYLIGHT
TZOFFSETFROM:-0500
TZOFFSETTO:-0400
TZNAME:EDT
DTSTART:20270314T070000
END:DAYLIGHT
BEGIN:STANDARD
TZOFFSETFROM:-0400
TZOFFSETTO:-0500
TZNAME:EST
DTSTART:20271107T060000
END:STANDARD
END:VTIMEZONE
BEGIN:VEVENT
DTSTART;TZID=America/New_York:20260409T180000
DTEND;TZID=America/New_York:20260409T190000
DTSTAMP:20260420T001349
CREATED:20251228T030758Z
LAST-MODIFIED:20260214T221012Z
UID:10000686-1775757600-1775761200@www.actnowga.com
SUMMARY:Cherokee Democrats GA | Monthly Meeting
DESCRIPTION:Join us at our monthly meeting in Woodstock on the second Thursday of each month at 7pm. We extend a warm invitation to all local Democrats\, Liberals\, Independents\, and those with left-leaning views. This gathering presents an excellent chance to discover our ongoing initiatives\, connect with like-minded individuals\, meet aspiring candidates\, and explore ways in which you can contribute to our cause. Don’t miss out on this valuable opportunity to make a difference in our community. \nFor more Cherokee County Democrat events please visit our website www.CherokeeDemocrats.com/events/ \nThis event is not sponsored by Allen Temple AME Church. \nFollow our website for more events. https://www.cherokeedemocrats.com/events/
URL:https://www.actnowga.com/event/cherokee-democrats-ga-monthly-meeting-4/
LOCATION:Allen Temple AME Church\, 232 Arnold Mill Rd\,\, Woodstock\, 30188.0
GEO:34.1005967;-84.5095577
X-APPLE-STRUCTURED-LOCATION;VALUE=URI;X-ADDRESS=Allen Temple AME Church 232 Arnold Mill Rd Woodstock 30188.0;X-APPLE-RADIUS=500;X-TITLE=232 Arnold Mill Rd\,:geo:-84.5095577,34.1005967
END:VEVENT
BEGIN:VEVENT
DTSTART;TZID=America/New_York:20260411T080000
DTEND;TZID=America/New_York:20260411T110000
DTSTAMP:20260420T001349
CREATED:20260214T221107Z
LAST-MODIFIED:20260214T221107Z
UID:10000969-1775894400-1775905200@www.actnowga.com
SUMMARY:April Donuts with Dems!
DESCRIPTION:Mark your calendars! More information to come.
URL:https://www.actnowga.com/event/april-donuts-with-dems/
LOCATION:American Legion – Smyrna Post 160\, 160 Legion Dr SE\,\, Smyrna\, 30080.0
GEO:33.876397;-84.5185172
X-APPLE-STRUCTURED-LOCATION;VALUE=URI;X-ADDRESS=American Legion – Smyrna Post 160 160 Legion Dr SE Smyrna 30080.0;X-APPLE-RADIUS=500;X-TITLE=160 Legion Dr SE\,:geo:-84.5185172,33.876397
END:VEVENT
BEGIN:VEVENT
DTSTART;TZID=America/New_York:20260411T090000
DTEND;TZID=America/New_York:20260411T103000
DTSTAMP:20260420T001349
CREATED:20260214T220337Z
LAST-MODIFIED:20260214T220337Z
UID:10000817-1775898000-1775903400@www.actnowga.com
SUMMARY:Whitfield County Democrats Blue Brunch
DESCRIPTION:Join us for Blue Brunch! Breakfast and fellowship the 2nd Saturday of each month. 10 am at El Maguey’s\, 209 W Cuyler Street\, Dalton.
URL:https://www.actnowga.com/event/whitfield-county-democrats-blue-brunch-4/
END:VEVENT
BEGIN:VEVENT
DTSTART;TZID=America/New_York:20260411T100000
DTEND;TZID=America/New_York:20260411T113000
DTSTAMP:20260420T001349
CREATED:20260214T221149Z
LAST-MODIFIED:20260214T221149Z
UID:10001018-1775901600-1775907000@www.actnowga.com
SUMMARY:Gwinnett Democrats | 2026 General Meetings | In-person Indoor Event
DESCRIPTION:Join us for our monthly General Meeting. \nCome join us. A strong county party helps make a strong state party which builds a solid national party. Let’s start working now on the future!
URL:https://www.actnowga.com/event/gwinnett-democrats-2026-general-meetings-in-person-indoor-event-2/
LOCATION:UFCW Local 1996\, 3302 McGinnis Ferry Rd\,\, Suwanee\, 30024.0
GEO:34.0314756;-84.0675484
X-APPLE-STRUCTURED-LOCATION;VALUE=URI;X-ADDRESS=UFCW Local 1996 3302 McGinnis Ferry Rd Suwanee 30024.0;X-APPLE-RADIUS=500;X-TITLE=3302 McGinnis Ferry Rd\,:geo:-84.0675484,34.0314756
END:VEVENT
BEGIN:VEVENT
DTSTART;TZID=America/New_York:20260412T180000
DTEND;TZID=America/New_York:20260412T190000
DTSTAMP:20260420T001349
CREATED:20260214T222229Z
LAST-MODIFIED:20260214T222229Z
UID:10001166-1776016800-1776020400@www.actnowga.com
SUMMARY:Latino Caucus (GA) - General Monthly Meeting
DESCRIPTION:Dear\, Friends\, family\, allies\, supporters\, and members\, \nPlease join us on the second (2nd) Sunday of every month on our virtual Latino Caucus call. Enjoy relevant programming that impact our communities. \nI look forward to seeing you all there. \nRegards\, \nLatino Caucus\, DPG – Chair\, Danny Arencibia
URL:https://www.actnowga.com/event/latino-caucus-ga-general-monthly-meeting-2/
LOCATION:Virtual (Zoom)\, \,\, Atlanta\, 30312.0
GEO:33.7440941;-84.377861
X-APPLE-STRUCTURED-LOCATION;VALUE=URI;X-ADDRESS=Virtual (Zoom)  Atlanta 30312.0;X-APPLE-RADIUS=500;X-TITLE=\,:geo:-84.377861,33.7440941
END:VEVENT
END:VCALENDAR