BEGIN:VCALENDAR
VERSION:2.0
PRODID:-//ActNowGA.com - ECPv6.15.18//NONSGML v1.0//EN
CALSCALE:GREGORIAN
METHOD:PUBLISH
X-WR-CALNAME:ActNowGA.com
X-ORIGINAL-URL:https://www.actnowga.com
X-WR-CALDESC:Events for ActNowGA.com
REFRESH-INTERVAL;VALUE=DURATION:PT1H
X-Robots-Tag:noindex
X-PUBLISHED-TTL:PT1H
BEGIN:VTIMEZONE
TZID:America/New_York
BEGIN:DAYLIGHT
TZOFFSETFROM:-0500
TZOFFSETTO:-0400
TZNAME:EDT
DTSTART:20250309T070000
END:DAYLIGHT
BEGIN:STANDARD
TZOFFSETFROM:-0400
TZOFFSETTO:-0500
TZNAME:EST
DTSTART:20251102T060000
END:STANDARD
BEGIN:DAYLIGHT
TZOFFSETFROM:-0500
TZOFFSETTO:-0400
TZNAME:EDT
DTSTART:20260308T070000
END:DAYLIGHT
BEGIN:STANDARD
TZOFFSETFROM:-0400
TZOFFSETTO:-0500
TZNAME:EST
DTSTART:20261101T060000
END:STANDARD
BEGIN:DAYLIGHT
TZOFFSETFROM:-0500
TZOFFSETTO:-0400
TZNAME:EDT
DTSTART:20270314T070000
END:DAYLIGHT
BEGIN:STANDARD
TZOFFSETFROM:-0400
TZOFFSETTO:-0500
TZNAME:EST
DTSTART:20271107T060000
END:STANDARD
END:VTIMEZONE
BEGIN:VEVENT
DTSTART;TZID=America/New_York:20260329T093000
DTEND;TZID=America/New_York:20260329T103000
DTSTAMP:20260419T203150
CREATED:20260214T221137Z
LAST-MODIFIED:20260214T221137Z
UID:10001007-1774776600-1774780200@www.actnowga.com
SUMMARY:CCDC Sunday Worship
DESCRIPTION:Join the Clayton County Dems for the CCDC Sunday Worship! In partnership with the Association of Christian Ministers of Clayton County\, CCDC members will visit & worship with local churches to strengthen their relationship with local Dems throughout the county. \n1.18 Shiloh Baptist Church\n2.22 Victory in Christ Ministries\n3.29 Valley Hill Baptist\n4.26 Greater Works Bible Church\n5.31 Divine Faith\n6.28 Amazing Grace\n7.26 Travelers Rest MBC\n8.30 TBD\n9.27 TBD\n10.25 TBD\n11.29 TENTATIVE – Holiday\n12.27 TENTATIVE – Holiday
URL:https://www.actnowga.com/event/ccdc-sunday-worship-2/
END:VEVENT
BEGIN:VEVENT
DTSTART;TZID=America/New_York:20260330T173000
DTEND;TZID=America/New_York:20260330T190000
DTSTAMP:20260419T203150
CREATED:20260214T220732Z
LAST-MODIFIED:20260214T220732Z
UID:10000898-1774891800-1774897200@www.actnowga.com
SUMMARY:Mid Fulton Democrats | Monthly Meeting
DESCRIPTION:Join the Mid Fulton Dems on the last Monday of the month to hear from elected officials\, party leaders\, and the community on upcoming elections and events in 2026.
URL:https://www.actnowga.com/event/mid-fulton-democrats-monthly-meeting-2/
LOCATION:The Social Space\, 691 John Wesley Dobbs Ave NE\, UNIT L\, Atlanta\, 30312.0
GEO:33.7589028;-84.364802
X-APPLE-STRUCTURED-LOCATION;VALUE=URI;X-ADDRESS=The Social Space 691 John Wesley Dobbs Ave NE UNIT L Atlanta 30312.0;X-APPLE-RADIUS=500;X-TITLE=691 John Wesley Dobbs Ave NE\, UNIT L:geo:-84.364802,33.7589028
END:VEVENT
END:VCALENDAR