BEGIN:VCALENDAR
VERSION:2.0
PRODID:-//ActNowGA.com - ECPv6.15.18//NONSGML v1.0//EN
CALSCALE:GREGORIAN
METHOD:PUBLISH
X-WR-CALNAME:ActNowGA.com
X-ORIGINAL-URL:https://www.actnowga.com
X-WR-CALDESC:Events for ActNowGA.com
REFRESH-INTERVAL;VALUE=DURATION:PT1H
X-Robots-Tag:noindex
X-PUBLISHED-TTL:PT1H
BEGIN:VTIMEZONE
TZID:America/New_York
BEGIN:DAYLIGHT
TZOFFSETFROM:-0500
TZOFFSETTO:-0400
TZNAME:EDT
DTSTART:20250309T070000
END:DAYLIGHT
BEGIN:STANDARD
TZOFFSETFROM:-0400
TZOFFSETTO:-0500
TZNAME:EST
DTSTART:20251102T060000
END:STANDARD
BEGIN:DAYLIGHT
TZOFFSETFROM:-0500
TZOFFSETTO:-0400
TZNAME:EDT
DTSTART:20260308T070000
END:DAYLIGHT
BEGIN:STANDARD
TZOFFSETFROM:-0400
TZOFFSETTO:-0500
TZNAME:EST
DTSTART:20261101T060000
END:STANDARD
BEGIN:DAYLIGHT
TZOFFSETFROM:-0500
TZOFFSETTO:-0400
TZNAME:EDT
DTSTART:20270314T070000
END:DAYLIGHT
BEGIN:STANDARD
TZOFFSETFROM:-0400
TZOFFSETTO:-0500
TZNAME:EST
DTSTART:20271107T060000
END:STANDARD
END:VTIMEZONE
BEGIN:VEVENT
DTSTART;TZID=America/New_York:20260318T170000
DTEND;TZID=America/New_York:20260318T190000
DTSTAMP:20260419T203243
CREATED:20260214T221343Z
LAST-MODIFIED:20260214T221343Z
UID:10001082-1773853200-1773860400@www.actnowga.com
SUMMARY:Gwinnett County Board of Registrations and Elections Meeting
DESCRIPTION:Monthly meeting of the Gwinnett County Board of Registrations & Elections.
URL:https://www.actnowga.com/event/gwinnett-county-board-of-registrations-and-elections-meeting-2/
LOCATION:Gwinnett Justice & Administration Center\, 75 Langley Dr\,\, Lawrenceville\, 30046.0
GEO:33.9520561;-83.9931291
X-APPLE-STRUCTURED-LOCATION;VALUE=URI;X-ADDRESS=Gwinnett Justice & Administration Center 75 Langley Dr Lawrenceville 30046.0;X-APPLE-RADIUS=500;X-TITLE=75 Langley Dr\,:geo:-83.9931291,33.9520561
END:VEVENT
BEGIN:VEVENT
DTSTART;TZID=America/New_York:20260318T170000
DTEND;TZID=America/New_York:20260318T190000
DTSTAMP:20260419T203243
CREATED:20260214T221028Z
LAST-MODIFIED:20260214T221028Z
UID:10000957-1773853200-1773860400@www.actnowga.com
SUMMARY:Georgia Wins Here: Statewide Candidates Forum
DESCRIPTION:Shape Georgia’s Future: Meet the Candidates for Statewide Office \nJoin the DeKalb County Democratic Committee\, DeKalb Young Dems\, and Greater Atlanta Democratic Women for our Georgia Wins Here: Statewide Candidates Forum\, featuring Democratic candidates running for statewide offices: \nMarch 18:\nLieutenant Governor\nAttorney General\nSecretary of State \nMarch 18: TBA\nMarch 25: TBA\nApril 1: TBA\nApril 8: TBA \nThis is your opportunity to hear directly from the candidates on the issues that matter most to you: economic development\, criminal justice reform\, voting rights\, election security\, and more.
URL:https://www.actnowga.com/event/georgia-wins-here-statewide-candidates-forum-2/
END:VEVENT
BEGIN:VEVENT
DTSTART;TZID=America/New_York:20260319T173000
DTEND;TZID=America/New_York:20260319T200000
DTSTAMP:20260419T203243
CREATED:20260214T220152Z
LAST-MODIFIED:20260214T220152Z
UID:10000784-1773941400-1773950400@www.actnowga.com
SUMMARY:Whitfield County Democrats Blue Thursday
DESCRIPTION:# Join us for food\, fellowship and drinks at our monthly Blue Thursday event at Pablito’s\, 933 Market St\, Dalton\, GA 30720.  \n– 3rd Thursday every month.\n– 6:30 pm\n– Bring a friend
URL:https://www.actnowga.com/event/whitfield-county-democrats-blue-thursday-6/
END:VEVENT
BEGIN:VEVENT
DTSTART;TZID=America/New_York:20260319T174500
DTEND;TZID=America/New_York:20260319T190000
DTSTAMP:20260419T203243
CREATED:20260214T221120Z
LAST-MODIFIED:20260214T221120Z
UID:10000985-1773942300-1773946800@www.actnowga.com
SUMMARY:Clayton County Dems Monthly General Body Meeting
DESCRIPTION:Join us for our monthly general body meeting with special guests. \nCommission District Leaders are required to attend.  \nRSVP is strongly encouraged – limited seating.
URL:https://www.actnowga.com/event/clayton-county-dems-monthly-general-body-meeting-2/
LOCATION:Ms. Jerrie’s Cafe\, 4609 Jonesboro Rd\,\, Forest Park\, 30297.0
GEO:33.6293874;-84.3566497
X-APPLE-STRUCTURED-LOCATION;VALUE=URI;X-ADDRESS=Ms. Jerrie’s Cafe 4609 Jonesboro Rd Forest Park 30297.0;X-APPLE-RADIUS=500;X-TITLE=4609 Jonesboro Rd\,:geo:-84.3566497,33.6293874
END:VEVENT
END:VCALENDAR