BEGIN:VCALENDAR
VERSION:2.0
PRODID:-//ActNowGA.com - ECPv6.15.18//NONSGML v1.0//EN
CALSCALE:GREGORIAN
METHOD:PUBLISH
X-WR-CALNAME:ActNowGA.com
X-ORIGINAL-URL:https://www.actnowga.com
X-WR-CALDESC:Events for ActNowGA.com
REFRESH-INTERVAL;VALUE=DURATION:PT1H
X-Robots-Tag:noindex
X-PUBLISHED-TTL:PT1H
BEGIN:VTIMEZONE
TZID:America/New_York
BEGIN:DAYLIGHT
TZOFFSETFROM:-0500
TZOFFSETTO:-0400
TZNAME:EDT
DTSTART:20250309T070000
END:DAYLIGHT
BEGIN:STANDARD
TZOFFSETFROM:-0400
TZOFFSETTO:-0500
TZNAME:EST
DTSTART:20251102T060000
END:STANDARD
BEGIN:DAYLIGHT
TZOFFSETFROM:-0500
TZOFFSETTO:-0400
TZNAME:EDT
DTSTART:20260308T070000
END:DAYLIGHT
BEGIN:STANDARD
TZOFFSETFROM:-0400
TZOFFSETTO:-0500
TZNAME:EST
DTSTART:20261101T060000
END:STANDARD
BEGIN:DAYLIGHT
TZOFFSETFROM:-0500
TZOFFSETTO:-0400
TZNAME:EDT
DTSTART:20270314T070000
END:DAYLIGHT
BEGIN:STANDARD
TZOFFSETFROM:-0400
TZOFFSETTO:-0500
TZNAME:EST
DTSTART:20271107T060000
END:STANDARD
END:VTIMEZONE
BEGIN:VEVENT
DTSTART;TZID=America/New_York:20260314T100000
DTEND;TZID=America/New_York:20260314T113000
DTSTAMP:20260419T113028
CREATED:20260214T221149Z
LAST-MODIFIED:20260214T221149Z
UID:10001017-1773482400-1773487800@www.actnowga.com
SUMMARY:Gwinnett Democrats | 2026 General Meetings | In-person Indoor Event
DESCRIPTION:Join us for our monthly General Meeting. \nCome join us. A strong county party helps make a strong state party which builds a solid national party. Let’s start working now on the future!
URL:https://www.actnowga.com/event/gwinnett-democrats-2026-general-meetings-in-person-indoor-event/
LOCATION:UFCW Local 1996\, 3302 McGinnis Ferry Rd\,\, Suwanee\, 30024.0
GEO:34.0314756;-84.0675484
X-APPLE-STRUCTURED-LOCATION;VALUE=URI;X-ADDRESS=UFCW Local 1996 3302 McGinnis Ferry Rd Suwanee 30024.0;X-APPLE-RADIUS=500;X-TITLE=3302 McGinnis Ferry Rd\,:geo:-84.0675484,34.0314756
END:VEVENT
BEGIN:VEVENT
DTSTART;TZID=America/New_York:20260314T120000
DTEND;TZID=America/New_York:20260314T141500
DTSTAMP:20260419T113028
CREATED:20260214T221404Z
LAST-MODIFIED:20260214T221404Z
UID:10001103-1773489600-1773497700@www.actnowga.com
SUMMARY:Cherokee Democrats | Open Dialogue
DESCRIPTION:Best Practices for Entering Open and Meaningful Dialogues with your Community \nThis training is for all volunteers — whether you prefer casual conversations with friends\, family\, and colleagues\, or are ready to connect with voters you don’t know through direct voter outreach. Even if you don’t talk to others much\, we would love for you to attend since you never know when the training will be handy. \nYou’ll learn Open Dialogue skills — attentive listening\, thoughtful questioning\, and values-based conversation techniques — to help people reflect on their priorities\, connect them to progressive solutions\, and feel empowered to act. \nGain the tools to inspire\, inform\, and motivate others\, strengthen grassroots participation\, and build a fair\, inclusive democracy — wherever you engage. \nFor more Cherokee County Democrat events please visit our website www.CherokeeDemocrats.com/events/
URL:https://www.actnowga.com/event/cherokee-democrats-open-dialogue/
LOCATION:Hickory Flat Public Library\, 2740 E Cherokee Dr\,\, Canton\, 30115.0
GEO:34.17043;-84.421435
X-APPLE-STRUCTURED-LOCATION;VALUE=URI;X-ADDRESS=Hickory Flat Public Library 2740 E Cherokee Dr Canton 30115.0;X-APPLE-RADIUS=500;X-TITLE=2740 E Cherokee Dr\,:geo:-84.421435,34.17043
END:VEVENT
BEGIN:VEVENT
DTSTART;TZID=America/New_York:20260315T190000
DTEND;TZID=America/New_York:20260315T200000
DTSTAMP:20260419T113028
CREATED:20260214T220553Z
LAST-MODIFIED:20260214T220553Z
UID:10000864-1773601200-1773604800@www.actnowga.com
SUMMARY:African American Caucus Monthly Meeting
DESCRIPTION:Join the African American Caucus every third Sunday of the month.  \nJoin Zoom Meeting\nhttps://us02web.zoom.us/j/82791796979?pwd=c0ViMVFqRVZZdUVCNkl3d2x6bHMwdz09 \nMeeting ID: 827 9179 6979\nPasscode: 476542
URL:https://www.actnowga.com/event/african-american-caucus-monthly-meeting-5/
LOCATION:Georgia\, \,\, 30318.0
GEO:33.7946333;-84.448772
X-APPLE-STRUCTURED-LOCATION;VALUE=URI;X-ADDRESS=Georgia  30318.0;X-APPLE-RADIUS=500;X-TITLE=\,:geo:-84.448772,33.7946333
END:VEVENT
BEGIN:VEVENT
DTSTART;TZID=America/New_York:20260317T170000
DTEND;TZID=America/New_York:20260317T190000
DTSTAMP:20260419T113028
CREATED:20260214T222213Z
LAST-MODIFIED:20260214T222213Z
UID:10001160-1773766800-1773774000@www.actnowga.com
SUMMARY:Morgan Dems: Pizza and Democracy
DESCRIPTION:Join Morgan Dems for Pizza and Democracy; for fellowship and commitment.\nMEET the candidates series continues:\nMichael Thurmond\, candidate for governor will tell us his vision for Georgia\, and WHY he’s the right candidate to unite us. He says working families are struggling\, and the state needs a governor willing to work past political gridlock.\nRichard Wright\, candidate for Lt Governor. As a dedicated community leader and experienced finance professional\, he is running to be a strong voice for the people.\nhttps://wrightforgeorgia2026.com/\nLearn about opportunities for you to make a difference here in Morgan County and beyond.\nPizza and tea will be served; contribute as you are able.\nAll are welcome who share Democratic values – bring a friend or two.\nCan’t be with us at Amici’s? Join us by zoom.\nTopic: Morgan Dems March meeting\nTime: Mar 17\, 2026 06:00 PM Eastern Time (US and Canada)\nJoin Zoom Meeting\nhttps://us06web.zoom.us/j/88921602316…\nMeeting ID: 889 2160 2316\nPasscode: 135860
URL:https://www.actnowga.com/event/morgan-dems-pizza-and-democracy-3/
LOCATION:Amici Madison\, 174 W Washington St\,\, Madison\, 30650.0
GEO:33.5961543;-83.4693612
X-APPLE-STRUCTURED-LOCATION;VALUE=URI;X-ADDRESS=Amici Madison 174 W Washington St Madison 30650.0;X-APPLE-RADIUS=500;X-TITLE=174 W Washington St\,:geo:-83.4693612,33.5961543
END:VEVENT
BEGIN:VEVENT
DTSTART;TZID=America/New_York:20260317T170000
DTEND;TZID=America/New_York:20260317T200000
DTSTAMP:20260419T113028
CREATED:20260214T220452Z
LAST-MODIFIED:20260214T220452Z
UID:10000844-1773766800-1773777600@www.actnowga.com
SUMMARY:Clayton County Board of Commissioners Meetings
DESCRIPTION:Clayton County Democrats\, we need folks to show up to the Board of Commissioners meetings! \nThey are the 1st and 3rd Tuesday of each month at 6:00pm. Whenever any regular meeting of the Board shall fall on a holiday\, the meeting shall be held on the following day. \nKey decisions about county policy are decided at these meetings across the state\, and far too often Republicans show up and show up loud even when their goal seems to be to spread misinformation and undermine our majority on the Board. \nEven if you don’t have something you plan to say during the public comment period\, be there to support Democratic values! It is about time policymakers know what the majority of Clayton residents really believe.
URL:https://www.actnowga.com/event/clayton-county-board-of-commissioners-meetings-9/
LOCATION:Boardroom\, 112 Smith St\,\, Jonesboro\, 30236.0
GEO:33.5230648;-84.3554372
X-APPLE-STRUCTURED-LOCATION;VALUE=URI;X-ADDRESS=Boardroom 112 Smith St Jonesboro 30236.0;X-APPLE-RADIUS=500;X-TITLE=112 Smith St\,:geo:-84.3554372,33.5230648
END:VEVENT
BEGIN:VEVENT
DTSTART;TZID=America/New_York:20260318T170000
DTEND;TZID=America/New_York:20260318T190000
DTSTAMP:20260419T113028
CREATED:20260214T221343Z
LAST-MODIFIED:20260214T221343Z
UID:10001082-1773853200-1773860400@www.actnowga.com
SUMMARY:Gwinnett County Board of Registrations and Elections Meeting
DESCRIPTION:Monthly meeting of the Gwinnett County Board of Registrations & Elections.
URL:https://www.actnowga.com/event/gwinnett-county-board-of-registrations-and-elections-meeting-2/
LOCATION:Gwinnett Justice & Administration Center\, 75 Langley Dr\,\, Lawrenceville\, 30046.0
GEO:33.9520561;-83.9931291
X-APPLE-STRUCTURED-LOCATION;VALUE=URI;X-ADDRESS=Gwinnett Justice & Administration Center 75 Langley Dr Lawrenceville 30046.0;X-APPLE-RADIUS=500;X-TITLE=75 Langley Dr\,:geo:-83.9931291,33.9520561
END:VEVENT
BEGIN:VEVENT
DTSTART;TZID=America/New_York:20260318T170000
DTEND;TZID=America/New_York:20260318T190000
DTSTAMP:20260419T113028
CREATED:20260214T221028Z
LAST-MODIFIED:20260214T221028Z
UID:10000957-1773853200-1773860400@www.actnowga.com
SUMMARY:Georgia Wins Here: Statewide Candidates Forum
DESCRIPTION:Shape Georgia’s Future: Meet the Candidates for Statewide Office \nJoin the DeKalb County Democratic Committee\, DeKalb Young Dems\, and Greater Atlanta Democratic Women for our Georgia Wins Here: Statewide Candidates Forum\, featuring Democratic candidates running for statewide offices: \nMarch 18:\nLieutenant Governor\nAttorney General\nSecretary of State \nMarch 18: TBA\nMarch 25: TBA\nApril 1: TBA\nApril 8: TBA \nThis is your opportunity to hear directly from the candidates on the issues that matter most to you: economic development\, criminal justice reform\, voting rights\, election security\, and more.
URL:https://www.actnowga.com/event/georgia-wins-here-statewide-candidates-forum-2/
END:VEVENT
BEGIN:VEVENT
DTSTART;TZID=America/New_York:20260319T173000
DTEND;TZID=America/New_York:20260319T200000
DTSTAMP:20260419T113028
CREATED:20260214T220152Z
LAST-MODIFIED:20260214T220152Z
UID:10000784-1773941400-1773950400@www.actnowga.com
SUMMARY:Whitfield County Democrats Blue Thursday
DESCRIPTION:# Join us for food\, fellowship and drinks at our monthly Blue Thursday event at Pablito’s\, 933 Market St\, Dalton\, GA 30720.  \n– 3rd Thursday every month.\n– 6:30 pm\n– Bring a friend
URL:https://www.actnowga.com/event/whitfield-county-democrats-blue-thursday-6/
END:VEVENT
BEGIN:VEVENT
DTSTART;TZID=America/New_York:20260319T174500
DTEND;TZID=America/New_York:20260319T190000
DTSTAMP:20260419T113028
CREATED:20260214T221120Z
LAST-MODIFIED:20260214T221120Z
UID:10000985-1773942300-1773946800@www.actnowga.com
SUMMARY:Clayton County Dems Monthly General Body Meeting
DESCRIPTION:Join us for our monthly general body meeting with special guests. \nCommission District Leaders are required to attend.  \nRSVP is strongly encouraged – limited seating.
URL:https://www.actnowga.com/event/clayton-county-dems-monthly-general-body-meeting-2/
LOCATION:Ms. Jerrie’s Cafe\, 4609 Jonesboro Rd\,\, Forest Park\, 30297.0
GEO:33.6293874;-84.3566497
X-APPLE-STRUCTURED-LOCATION;VALUE=URI;X-ADDRESS=Ms. Jerrie’s Cafe 4609 Jonesboro Rd Forest Park 30297.0;X-APPLE-RADIUS=500;X-TITLE=4609 Jonesboro Rd\,:geo:-84.3566497,33.6293874
END:VEVENT
END:VCALENDAR