BEGIN:VCALENDAR
VERSION:2.0
PRODID:-//ActNowGA.com - ECPv6.15.18//NONSGML v1.0//EN
CALSCALE:GREGORIAN
METHOD:PUBLISH
X-WR-CALNAME:ActNowGA.com
X-ORIGINAL-URL:https://www.actnowga.com
X-WR-CALDESC:Events for ActNowGA.com
REFRESH-INTERVAL;VALUE=DURATION:PT1H
X-Robots-Tag:noindex
X-PUBLISHED-TTL:PT1H
BEGIN:VTIMEZONE
TZID:America/New_York
BEGIN:DAYLIGHT
TZOFFSETFROM:-0500
TZOFFSETTO:-0400
TZNAME:EDT
DTSTART:20250309T070000
END:DAYLIGHT
BEGIN:STANDARD
TZOFFSETFROM:-0400
TZOFFSETTO:-0500
TZNAME:EST
DTSTART:20251102T060000
END:STANDARD
BEGIN:DAYLIGHT
TZOFFSETFROM:-0500
TZOFFSETTO:-0400
TZNAME:EDT
DTSTART:20260308T070000
END:DAYLIGHT
BEGIN:STANDARD
TZOFFSETFROM:-0400
TZOFFSETTO:-0500
TZNAME:EST
DTSTART:20261101T060000
END:STANDARD
BEGIN:DAYLIGHT
TZOFFSETFROM:-0500
TZOFFSETTO:-0400
TZNAME:EDT
DTSTART:20270314T070000
END:DAYLIGHT
BEGIN:STANDARD
TZOFFSETFROM:-0400
TZOFFSETTO:-0500
TZNAME:EST
DTSTART:20271107T060000
END:STANDARD
END:VTIMEZONE
BEGIN:VEVENT
DTSTART;TZID=America/New_York:20260312T173000
DTEND;TZID=America/New_York:20260312T190000
DTSTAMP:20260419T161321
CREATED:20260214T222301Z
LAST-MODIFIED:20260214T222301Z
UID:10001178-1773336600-1773342000@www.actnowga.com
SUMMARY:Murray County March Regular Meeting
DESCRIPTION:The Murray County Democratic Committee will conduct it’s March business meeting at Pizza King in Chatsworth. The meeting will begin at 6:30 pm. The public is welcome!
URL:https://www.actnowga.com/event/murray-county-march-regular-meeting/
LOCATION:Pizza King Chatsworth\, 500 S 3rd Ave\,\, Chatsworth\, 30705.0
GEO:34.7620156;-84.7705971
X-APPLE-STRUCTURED-LOCATION;VALUE=URI;X-ADDRESS=Pizza King Chatsworth 500 S 3rd Ave Chatsworth 30705.0;X-APPLE-RADIUS=500;X-TITLE=500 S 3rd Ave\,:geo:-84.7705971,34.7620156
END:VEVENT
BEGIN:VEVENT
DTSTART;TZID=America/New_York:20260312T180000
DTEND;TZID=America/New_York:20260312T190000
DTSTAMP:20260419T161321
CREATED:20260214T220658Z
LAST-MODIFIED:20260214T220658Z
UID:10000876-1773338400-1773342000@www.actnowga.com
SUMMARY:Fulton County | Virtual Monthly Meeting
DESCRIPTION:Join us every second Thursday of the month to get updates from state legislators\, county officials\, and party leadership on our goals for 2026 and how you can get involved.
URL:https://www.actnowga.com/event/fulton-county-virtual-monthly-meeting/
LOCATION:On Zoom\, \,\, Atlanta\, 30312.0
GEO:33.7440941;-84.377861
X-APPLE-STRUCTURED-LOCATION;VALUE=URI;X-ADDRESS=On Zoom  Atlanta 30312.0;X-APPLE-RADIUS=500;X-TITLE=\,:geo:-84.377861,33.7440941
END:VEVENT
BEGIN:VEVENT
DTSTART;TZID=America/New_York:20260312T180000
DTEND;TZID=America/New_York:20260312T190000
DTSTAMP:20260419T161321
CREATED:20251228T030758Z
LAST-MODIFIED:20260214T221012Z
UID:10000685-1773338400-1773342000@www.actnowga.com
SUMMARY:Cherokee Democrats GA | Monthly Meeting
DESCRIPTION:Join us at our monthly meeting in Woodstock on the second Thursday of each month at 7pm. We extend a warm invitation to all local Democrats\, Liberals\, Independents\, and those with left-leaning views. This gathering presents an excellent chance to discover our ongoing initiatives\, connect with like-minded individuals\, meet aspiring candidates\, and explore ways in which you can contribute to our cause. Don’t miss out on this valuable opportunity to make a difference in our community. \nFor more Cherokee County Democrat events please visit our website www.CherokeeDemocrats.com/events/ \nThis event is not sponsored by Allen Temple AME Church. \nFollow our website for more events. https://www.cherokeedemocrats.com/events/
URL:https://www.actnowga.com/event/cherokee-democrats-ga-monthly-meeting-3/
LOCATION:Allen Temple AME Church\, 232 Arnold Mill Rd\,\, Woodstock\, 30188.0
GEO:34.1005967;-84.5095577
X-APPLE-STRUCTURED-LOCATION;VALUE=URI;X-ADDRESS=Allen Temple AME Church 232 Arnold Mill Rd Woodstock 30188.0;X-APPLE-RADIUS=500;X-TITLE=232 Arnold Mill Rd\,:geo:-84.5095577,34.1005967
END:VEVENT
BEGIN:VEVENT
DTSTART;TZID=America/New_York:20260314T080000
DTEND;TZID=America/New_York:20260314T110000
DTSTAMP:20260419T161321
CREATED:20260214T221100Z
LAST-MODIFIED:20260214T221100Z
UID:10000968-1773475200-1773486000@www.actnowga.com
SUMMARY:March Donuts with Dems!
DESCRIPTION:Mark your calendars! More information to come.
URL:https://www.actnowga.com/event/march-donuts-with-dems/
LOCATION:American Legion – Smyrna Post 160\, 160 Legion Dr SE\,\, Smyrna\, 30080.0
GEO:33.876397;-84.5185172
X-APPLE-STRUCTURED-LOCATION;VALUE=URI;X-ADDRESS=American Legion – Smyrna Post 160 160 Legion Dr SE Smyrna 30080.0;X-APPLE-RADIUS=500;X-TITLE=160 Legion Dr SE\,:geo:-84.5185172,33.876397
END:VEVENT
BEGIN:VEVENT
DTSTART;TZID=America/New_York:20260314T090000
DTEND;TZID=America/New_York:20260314T103000
DTSTAMP:20260419T161321
CREATED:20260214T220322Z
LAST-MODIFIED:20260214T220322Z
UID:10000816-1773478800-1773484200@www.actnowga.com
SUMMARY:Whitfield County Democrats Blue Brunch
DESCRIPTION:Join us for Blue Brunch! Breakfast and fellowship the 2nd Saturday of each month. 10 am at El Maguey’s\, 209 W Cuyler Street\, Dalton.
URL:https://www.actnowga.com/event/whitfield-county-democrats-blue-brunch-3/
END:VEVENT
BEGIN:VEVENT
DTSTART;TZID=America/New_York:20260314T100000
DTEND;TZID=America/New_York:20260314T113000
DTSTAMP:20260419T161321
CREATED:20260214T221149Z
LAST-MODIFIED:20260214T221149Z
UID:10001017-1773482400-1773487800@www.actnowga.com
SUMMARY:Gwinnett Democrats | 2026 General Meetings | In-person Indoor Event
DESCRIPTION:Join us for our monthly General Meeting. \nCome join us. A strong county party helps make a strong state party which builds a solid national party. Let’s start working now on the future!
URL:https://www.actnowga.com/event/gwinnett-democrats-2026-general-meetings-in-person-indoor-event/
LOCATION:UFCW Local 1996\, 3302 McGinnis Ferry Rd\,\, Suwanee\, 30024.0
GEO:34.0314756;-84.0675484
X-APPLE-STRUCTURED-LOCATION;VALUE=URI;X-ADDRESS=UFCW Local 1996 3302 McGinnis Ferry Rd Suwanee 30024.0;X-APPLE-RADIUS=500;X-TITLE=3302 McGinnis Ferry Rd\,:geo:-84.0675484,34.0314756
END:VEVENT
BEGIN:VEVENT
DTSTART;TZID=America/New_York:20260314T120000
DTEND;TZID=America/New_York:20260314T141500
DTSTAMP:20260419T161321
CREATED:20260214T221404Z
LAST-MODIFIED:20260214T221404Z
UID:10001103-1773489600-1773497700@www.actnowga.com
SUMMARY:Cherokee Democrats | Open Dialogue
DESCRIPTION:Best Practices for Entering Open and Meaningful Dialogues with your Community \nThis training is for all volunteers — whether you prefer casual conversations with friends\, family\, and colleagues\, or are ready to connect with voters you don’t know through direct voter outreach. Even if you don’t talk to others much\, we would love for you to attend since you never know when the training will be handy. \nYou’ll learn Open Dialogue skills — attentive listening\, thoughtful questioning\, and values-based conversation techniques — to help people reflect on their priorities\, connect them to progressive solutions\, and feel empowered to act. \nGain the tools to inspire\, inform\, and motivate others\, strengthen grassroots participation\, and build a fair\, inclusive democracy — wherever you engage. \nFor more Cherokee County Democrat events please visit our website www.CherokeeDemocrats.com/events/
URL:https://www.actnowga.com/event/cherokee-democrats-open-dialogue/
LOCATION:Hickory Flat Public Library\, 2740 E Cherokee Dr\,\, Canton\, 30115.0
GEO:34.17043;-84.421435
X-APPLE-STRUCTURED-LOCATION;VALUE=URI;X-ADDRESS=Hickory Flat Public Library 2740 E Cherokee Dr Canton 30115.0;X-APPLE-RADIUS=500;X-TITLE=2740 E Cherokee Dr\,:geo:-84.421435,34.17043
END:VEVENT
END:VCALENDAR