BEGIN:VCALENDAR
VERSION:2.0
PRODID:-//ActNowGA.com - ECPv6.15.18//NONSGML v1.0//EN
CALSCALE:GREGORIAN
METHOD:PUBLISH
X-WR-CALNAME:ActNowGA.com
X-ORIGINAL-URL:https://www.actnowga.com
X-WR-CALDESC:Events for ActNowGA.com
REFRESH-INTERVAL;VALUE=DURATION:PT1H
X-Robots-Tag:noindex
X-PUBLISHED-TTL:PT1H
BEGIN:VTIMEZONE
TZID:America/New_York
BEGIN:DAYLIGHT
TZOFFSETFROM:-0500
TZOFFSETTO:-0400
TZNAME:EDT
DTSTART:20250309T070000
END:DAYLIGHT
BEGIN:STANDARD
TZOFFSETFROM:-0400
TZOFFSETTO:-0500
TZNAME:EST
DTSTART:20251102T060000
END:STANDARD
BEGIN:DAYLIGHT
TZOFFSETFROM:-0500
TZOFFSETTO:-0400
TZNAME:EDT
DTSTART:20260308T070000
END:DAYLIGHT
BEGIN:STANDARD
TZOFFSETFROM:-0400
TZOFFSETTO:-0500
TZNAME:EST
DTSTART:20261101T060000
END:STANDARD
BEGIN:DAYLIGHT
TZOFFSETFROM:-0500
TZOFFSETTO:-0400
TZNAME:EDT
DTSTART:20270314T070000
END:DAYLIGHT
BEGIN:STANDARD
TZOFFSETFROM:-0400
TZOFFSETTO:-0500
TZNAME:EST
DTSTART:20271107T060000
END:STANDARD
END:VTIMEZONE
BEGIN:VEVENT
DTSTART;TZID=America/New_York:20260308T180000
DTEND;TZID=America/New_York:20260308T190000
DTSTAMP:20260419T152912
CREATED:20260214T222229Z
LAST-MODIFIED:20260214T222229Z
UID:10001165-1772992800-1772996400@www.actnowga.com
SUMMARY:Latino Caucus (GA) - General Monthly Meeting
DESCRIPTION:Dear\, Friends\, family\, allies\, supporters\, and members\, \nPlease join us on the second (2nd) Sunday of every month on our virtual Latino Caucus call.  Enjoy relevant programming that impact our communities. \nI look forward to seeing you all there. \nRegards\, \nLatino Caucus\, DPG – Chair\, Danny Arencibia
URL:https://www.actnowga.com/event/latino-caucus-ga-general-monthly-meeting/
LOCATION:Virtual (Zoom)\, \,\, Atlanta\, 30312.0
GEO:33.7440941;-84.377861
X-APPLE-STRUCTURED-LOCATION;VALUE=URI;X-ADDRESS=Virtual (Zoom)  Atlanta 30312.0;X-APPLE-RADIUS=500;X-TITLE=\,:geo:-84.377861,33.7440941
END:VEVENT
BEGIN:VEVENT
DTSTART;TZID=America/New_York:20260309T110000
DTEND;TZID=America/New_York:20260309T140000
DTSTAMP:20260419T152912
CREATED:20260214T221359Z
LAST-MODIFIED:20260214T221359Z
UID:10001097-1773054000-1773064800@www.actnowga.com
SUMMARY:YDG Day At The Capital
DESCRIPTION:Join YDG on March 9th for our annual Legislative Day at the Capitol! Whether you’re new to the legislative process or a seasoned advocate\, this event will provide a behind-the-scenes look at how our state government operates and how you can make an impact\, while also providing an opportunity to meet with fellow Young Dems across the State.\nWhat to expect:\n-Meet and Greet with Legislatures\n-A tour of the Capitol\n-Advocacy Training\n-Sit in on the legislative session and watch proceedings in real time\nWe hope you join us for an afternoon filled with knowledge\, unforgettable experiences\, and fun!
URL:https://www.actnowga.com/event/ydg-day-at-the-capital/
LOCATION:Capitol Building (Room 216)\, 206 Washington St SW\,\, Atlanta\, 30334.0
GEO:33.7488468;-84.3882107
X-APPLE-STRUCTURED-LOCATION;VALUE=URI;X-ADDRESS=Capitol Building (Room 216) 206 Washington St SW Atlanta 30334.0;X-APPLE-RADIUS=500;X-TITLE=206 Washington St SW\,:geo:-84.3882107,33.7488468
END:VEVENT
BEGIN:VEVENT
DTSTART;TZID=America/New_York:20260309T170000
DTEND;TZID=America/New_York:20260309T190000
DTSTAMP:20260419T152912
CREATED:20260214T221107Z
LAST-MODIFIED:20260214T221107Z
UID:10000973-1773075600-1773082800@www.actnowga.com
SUMMARY:GCYD Monthly Meeting
DESCRIPTION:Join us the Second Monday of every month for legislative updates from our Elected Officials\, organizational updates and events\, becoming mobilized and organized. Bring your family and friends!
URL:https://www.actnowga.com/event/gcyd-monthly-meeting-2/
LOCATION:Gwinnett County Public Library – Lawrenceville Hooper-Renwick Branch\, 56 Neal Blvd\,\, Lawrenceville\, 30046.0
GEO:33.9508823;-83.984636
X-APPLE-STRUCTURED-LOCATION;VALUE=URI;X-ADDRESS=Gwinnett County Public Library – Lawrenceville Hooper-Renwick Branch 56 Neal Blvd Lawrenceville 30046.0;X-APPLE-RADIUS=500;X-TITLE=56 Neal Blvd\,:geo:-83.984636,33.9508823
END:VEVENT
BEGIN:VEVENT
DTSTART;TZID=America/New_York:20260309T173000
DTEND;TZID=America/New_York:20260309T183000
DTSTAMP:20260419T152912
CREATED:20260214T220353Z
LAST-MODIFIED:20260214T220353Z
UID:10000826-1773077400-1773081000@www.actnowga.com
SUMMARY:DeKalb Dems African American Caucus Politics and Pizza
DESCRIPTION:Join the DeKalb Chapter of the African American Caucus for Politics and Pizza to discuss issues facing our community and what action you can take to advocate for our rights and educate voters. These will be in-person monthly events on the second Monday of each month. Location: Fellini’s Pizza\, 333 Commerce Dr\, Decatur\, GA 30030.
URL:https://www.actnowga.com/event/dekalb-dems-african-american-caucus-politics-and-pizza-3/
LOCATION:Fellini’s Pizza\, 333 Commerce Drive\,\, Decatur\, 30030.0
GEO:33.7739552;-84.2913432
X-APPLE-STRUCTURED-LOCATION;VALUE=URI;X-ADDRESS=Fellini’s Pizza 333 Commerce Drive Decatur 30030.0;X-APPLE-RADIUS=500;X-TITLE=333 Commerce Drive\,:geo:-84.2913432,33.7739552
END:VEVENT
BEGIN:VEVENT
DTSTART;TZID=America/New_York:20260310T153000
DTEND;TZID=America/New_York:20260310T173000
DTSTAMP:20260419T152912
CREATED:20260214T220422Z
LAST-MODIFIED:20260214T220422Z
UID:10000832-1773156600-1773163800@www.actnowga.com
SUMMARY:Clayton County Board of Elections Meetings
DESCRIPTION:Clayton County Democrats\, we need folks to show up to the Board of Elections meetings! They are the second Tuesday of the month at 4:30 pm. \nKey decisions about election process are decided at these meetings across the state\, and far too often Republicans show up and show up loud even when their goal seems to be to spread misinformation and undermine the integrity of our democracy. \nEven if you don’t have something you plan to say during the public comment period\, be there to support access to the ballot!
URL:https://www.actnowga.com/event/clayton-county-board-of-elections-meetings-3/
LOCATION:Board of Elections and Registration\, 7946 N McDonough St\,\, Jonesboro\, 30236.0
GEO:33.5378326;-84.3480603
X-APPLE-STRUCTURED-LOCATION;VALUE=URI;X-ADDRESS=Board of Elections and Registration 7946 N McDonough St Jonesboro 30236.0;X-APPLE-RADIUS=500;X-TITLE=7946 N McDonough St\,:geo:-84.3480603,33.5378326
END:VEVENT
BEGIN:VEVENT
DTSTART;TZID=America/New_York:20260310T180000
DTEND;TZID=America/New_York:20260310T190000
DTSTAMP:20260419T152912
CREATED:20251228T031617Z
LAST-MODIFIED:20260214T221028Z
UID:10000747-1773165600-1773169200@www.actnowga.com
SUMMARY:Cherokee Democrats GA | Huddle with the Chair
DESCRIPTION:The monthly “Huddle” is geared for people looking to get involved with the county party but maybe have some questions. It’s a chance to connect directly with the County Chair to pose questions and learn what the county party is working on\, how to best engage\, and how to navigate the political landscape. \n**Please RSVP** \n## Zoom information will be emailed the Monday before the meeting to those who register. \nFor more Cherokee County Democrat events please visit our website www.CherokeeDemocrats.com/events/
URL:https://www.actnowga.com/event/cherokee-democrats-ga-huddle-with-the-chair-3/
LOCATION:Woodstock\, \,\, Woodstock\, 30188
GEO:34.1280759;-84.448772
X-APPLE-STRUCTURED-LOCATION;VALUE=URI;X-ADDRESS=Woodstock  Woodstock 30188;X-APPLE-RADIUS=500;X-TITLE=\,:geo:-84.448772,34.1280759
END:VEVENT
END:VCALENDAR