BEGIN:VCALENDAR
VERSION:2.0
PRODID:-//ActNowGA.com - ECPv6.15.18//NONSGML v1.0//EN
CALSCALE:GREGORIAN
METHOD:PUBLISH
X-WR-CALNAME:ActNowGA.com
X-ORIGINAL-URL:https://www.actnowga.com
X-WR-CALDESC:Events for ActNowGA.com
REFRESH-INTERVAL;VALUE=DURATION:PT1H
X-Robots-Tag:noindex
X-PUBLISHED-TTL:PT1H
BEGIN:VTIMEZONE
TZID:America/New_York
BEGIN:DAYLIGHT
TZOFFSETFROM:-0500
TZOFFSETTO:-0400
TZNAME:EDT
DTSTART:20250309T070000
END:DAYLIGHT
BEGIN:STANDARD
TZOFFSETFROM:-0400
TZOFFSETTO:-0500
TZNAME:EST
DTSTART:20251102T060000
END:STANDARD
BEGIN:DAYLIGHT
TZOFFSETFROM:-0500
TZOFFSETTO:-0400
TZNAME:EDT
DTSTART:20260308T070000
END:DAYLIGHT
BEGIN:STANDARD
TZOFFSETFROM:-0400
TZOFFSETTO:-0500
TZNAME:EST
DTSTART:20261101T060000
END:STANDARD
BEGIN:DAYLIGHT
TZOFFSETFROM:-0500
TZOFFSETTO:-0400
TZNAME:EDT
DTSTART:20270314T070000
END:DAYLIGHT
BEGIN:STANDARD
TZOFFSETFROM:-0400
TZOFFSETTO:-0500
TZNAME:EST
DTSTART:20271107T060000
END:STANDARD
END:VTIMEZONE
BEGIN:VEVENT
DTSTART;TZID=America/New_York:20260228T190000
DTEND;TZID=America/New_York:20260228T210000
DTSTAMP:20260419T113915
CREATED:20260214T222301Z
LAST-MODIFIED:20260214T222301Z
UID:10001177-1772305200-1772312400@www.actnowga.com
SUMMARY:Clayton County Democratic Committee Gubernatorial Forum
DESCRIPTION:Join us for the Clayton County Democratic Committee Gubernatorial Forum to hear from Democratic candidates on topics that will directly impact you such as: Healthcare\, Voting rights\, Economy\, the Trump administration\, and much more. \nDate: Saturday\, 2/28/2026 \nTime: 7:00PM – 9:00PM \nLocation: Living Faith Tabernacle – 5880 Old Dixie Rd. Forest Park\, GA 30297 \nRSVP via Mobilize link.   \nIn partnership with the Clayton County Young Democrats and the Association of Christian Ministers of Clayton County.
URL:https://www.actnowga.com/event/clayton-county-democratic-committee-gubernatorial-forum/
END:VEVENT
BEGIN:VEVENT
DTSTART;TZID=America/New_York:20260302T183000
DTEND;TZID=America/New_York:20260302T193000
DTSTAMP:20260419T113915
CREATED:20260214T220956Z
LAST-MODIFIED:20260214T220956Z
UID:10000955-1772476200-1772479800@www.actnowga.com
SUMMARY:Columbia County Democrats Monthly Meeting
DESCRIPTION:Join us for our regular monthly meeting to discuss upcoming events\, community outreach\, and local elections. \nAll Democrats\, progressives\, and curious community members are welcome. \nThis is a great opportunity to stay informed\, get involved\, and connect with others who care about Columbia County’s future. \nCheck us out: https://ccdemocratsga.org/upcoming\nEmail: contact@ccdemocratsga.org
URL:https://www.actnowga.com/event/columbia-county-democrats-monthly-meeting-2/
LOCATION:Columbia County Library\, 7022 Evans Town Center Blvd\, Classrooms B&C\, Evans\, 30809.0
GEO:33.5466255;-82.1329375
X-APPLE-STRUCTURED-LOCATION;VALUE=URI;X-ADDRESS=Columbia County Library 7022 Evans Town Center Blvd Classrooms B&C Evans 30809.0;X-APPLE-RADIUS=500;X-TITLE=7022 Evans Town Center Blvd\, Classrooms B&C:geo:-82.1329375,33.5466255
END:VEVENT
BEGIN:VEVENT
DTSTART;TZID=America/New_York:20260303T173000
DTEND;TZID=America/New_York:20260303T200000
DTSTAMP:20260419T113915
CREATED:20260214T221323Z
LAST-MODIFIED:20260214T221323Z
UID:10001059-1772559000-1772568000@www.actnowga.com
SUMMARY:Phone Bank for Jack Zibluk\, State Senate 53 SPECIAL ELECTION
DESCRIPTION:NW Georgia is having TWO special elections this March! Besides the Congressional election to replace Marjorie Taylor Greene\, there is also a special election for a new District 53 State Senate district. (Dade/Walker/Catoosa/Chattooga/Floyd) \nDemocratic candidate Jack Zibluk will by vying for this post against multiple Republicans\, so we need a good persuasion and Get Out the Vote effort to help Jack out! \nIf you want to make phone calls for Jack\, his campaign will be doing phone banks every Tuesday and Thursday through the election. Please RSVP here\, and sign up to volunteer at: \nVolunteer \n \nYou will connect with the campaign via the link to connect you with the campaign directly! There will be a short training session from the campaign before you begin\, and then off you go making calls! \nA Zoom link is here to talk to the phone bank supervisor beforehand:\nJoin Zoom Meeting\nhttps://us05web.zoom.us/j/89934167829?pwd=3vsmEn6kVMLb8dWaaH6b1fSUZSSuDa.1 \nThanks so much for your efforts on behalf of Jack!
URL:https://www.actnowga.com/event/phone-bank-for-jack-zibluk-state-senate-53-special-election-5/
END:VEVENT
BEGIN:VEVENT
DTSTART;TZID=America/New_York:20260303T180000
DTEND;TZID=America/New_York:20260303T210000
DTSTAMP:20260419T113915
CREATED:20260214T220452Z
LAST-MODIFIED:20260214T220452Z
UID:10000843-1772560800-1772571600@www.actnowga.com
SUMMARY:Clayton County Board of Commissioners Meetings
DESCRIPTION:Clayton County Democrats\, we need folks to show up to the Board of Commissioners meetings! \nThey are the 1st and 3rd Tuesday of each month at 6:00pm. Whenever any regular meeting of the Board shall fall on a holiday\, the meeting shall be held on the following day. \nKey decisions about county policy are decided at these meetings across the state\, and far too often Republicans show up and show up loud even when their goal seems to be to spread misinformation and undermine our majority on the Board. \nEven if you don’t have something you plan to say during the public comment period\, be there to support Democratic values! It is about time policymakers know what the majority of Clayton residents really believe.
URL:https://www.actnowga.com/event/clayton-county-board-of-commissioners-meetings-8/
LOCATION:Boardroom\, 112 Smith St\,\, Jonesboro\, 30236.0
GEO:33.5230648;-84.3554372
X-APPLE-STRUCTURED-LOCATION;VALUE=URI;X-ADDRESS=Boardroom 112 Smith St Jonesboro 30236.0;X-APPLE-RADIUS=500;X-TITLE=112 Smith St\,:geo:-84.3554372,33.5230648
END:VEVENT
BEGIN:VEVENT
DTSTART;TZID=America/New_York:20260303T183000
DTEND;TZID=America/New_York:20260303T193000
DTSTAMP:20260419T113915
CREATED:20260214T220222Z
LAST-MODIFIED:20260214T220222Z
UID:10000794-1772562600-1772566200@www.actnowga.com
SUMMARY:Whitfield County Democratic Party Monthly Meeting
DESCRIPTION:Join us in person for our Monthly meetings on the first Tuesday\, each month\, 6:30 pm at the Mack Gaston Community Center in Dalton.  Date and venue may change for holidays and elections.  Zoom link available if you cannot attend in person.
URL:https://www.actnowga.com/event/whitfield-county-democratic-party-monthly-meeting-5/
LOCATION:Mack Gaston Community Center\, 218 N Fredrick St\,\, Dalton\, 30721
GEO:34.7736923;-84.9569748
X-APPLE-STRUCTURED-LOCATION;VALUE=URI;X-ADDRESS=Mack Gaston Community Center 218 N Fredrick St Dalton 30721;X-APPLE-RADIUS=500;X-TITLE=218 N Fredrick St\,:geo:-84.9569748,34.7736923
END:VEVENT
BEGIN:VEVENT
DTSTART;TZID=America/New_York:20260303T183000
DTEND;TZID=America/New_York:20260303T200000
DTSTAMP:20260419T113915
CREATED:20260214T222203Z
LAST-MODIFIED:20260214T222203Z
UID:10001153-1772562600-1772568000@www.actnowga.com
SUMMARY:DeKalb Dems' Q1 Mix & Mingle
DESCRIPTION:Celebrate women in democracy as we fellowship with fellow Democrats for an exciting upcoming election season!
URL:https://www.actnowga.com/event/dekalb-dems-q1-mix-mingle/
END:VEVENT
BEGIN:VEVENT
DTSTART;TZID=America/New_York:20260304T170000
DTEND;TZID=America/New_York:20260304T190000
DTSTAMP:20260419T113915
CREATED:20260214T222051Z
LAST-MODIFIED:20260214T222051Z
UID:10001134-1772643600-1772650800@www.actnowga.com
SUMMARY:Druid Hills Dems Community HAPPY HOUR
DESCRIPTION:Are you concerned about what’s going on? Do you want to do something? Here’s where the Druid Hills Community can meet up in a safe place to talk about what we can do to change things\, strengthen our community and work on building our ground game for winning the 2026 mid-term elections\, street by street. We need like-minded folks to help make it happen. Come enjoy a relaxed environment with a range of brews and beverages and learn what you can do to keep Georgia blue. \nCome join us on Wednesday\, Feb. 4 at Wild Heaven Beer – Toco Hills! 5-7 pm. Wild Heaven Brewery also has great food from Fox Bros Bar-B-Q
URL:https://www.actnowga.com/event/druid-hills-dems-community-happy-hour/
END:VEVENT
END:VCALENDAR